BEGIN:VCALENDAR
VERSION:2.0
PRODID:-//Sabre//Sabre VObject 4.5.8//EN
CALSCALE:GREGORIAN
BEGIN:VEVENT
UID:sabre-vobject-bc997d95-2784-49ed-b51e-443b9fb7a171
DTSTAMP:20260426T030427Z
SUMMARY:Pfingstnovene
DESCRIPTION:https://www2.bistum-augsburg.de/gottesdienste/pfingstnovene_id1
 732804
DTSTART;TZID=Europe/Berlin:20260519T180000
DURATION:PT30M
LOCATION:St. Georg\, Georgenstr. 20\, 86456 Gablingen-Lützelburg
END:VEVENT
END:VCALENDAR
