BEGIN:VCALENDAR
VERSION:2.0
PRODID:-//Sabre//Sabre VObject 4.5.8//EN
CALSCALE:GREGORIAN
BEGIN:VEVENT
UID:sabre-vobject-0bfe3974-987f-4c5d-85e4-de8bbeb79df6
DTSTAMP:20260424T103840Z
SUMMARY:mit dem Fahrrad zur Bittmesse nach Hattenhofen (Treff in der Kirche
 )
DESCRIPTION:https://www2.bistum-augsburg.de/gottesdienste/mit-dem-fahrrad-z
 ur-bittmesse-nach-hattenhofen-treff-in-der-kirche_id1732866
DTSTART;TZID=Europe/Berlin:20260511T183000
DURATION:PT30M
LOCATION:St. Michael
END:VEVENT
END:VCALENDAR
