BEGIN:VCALENDAR
VERSION:2.0
PRODID:-//Sabre//Sabre VObject 4.5.8//EN
CALSCALE:GREGORIAN
BEGIN:VEVENT
UID:sabre-vobject-8e00adf5-40ea-431a-8039-f12d32d46dba
DTSTAMP:20260425T120523Z
SUMMARY:keine Hl. Messe!!!
DESCRIPTION:https://www2.bistum-augsburg.de/gottesdienste/keine-hl-messe_id
 1732869
DTSTART;TZID=Europe/Berlin:20260513T000000
DURATION:PT30M
LOCATION:St. Michael
END:VEVENT
END:VCALENDAR
