BEGIN:VCALENDAR
VERSION:2.0
PRODID:-//Sabre//Sabre VObject 4.5.8//EN
CALSCALE:GREGORIAN
BEGIN:VEVENT
UID:sabre-vobject-b3ef0822-f9f7-49ff-bca1-10bbede61259
DTSTAMP:20260424T063326Z
SUMMARY:Heilige Messe
DESCRIPTION:https://www2.bistum-augsburg.de/gottesdienste/heilige-messe_id1
 732880
DTSTART;TZID=Europe/Berlin:20260507T191500
DURATION:PT30M
LOCATION:St. Peter und Paul
END:VEVENT
END:VCALENDAR
