BEGIN:VCALENDAR
VERSION:2.0
PRODID:-//Sabre//Sabre VObject 4.5.8//EN
CALSCALE:GREGORIAN
BEGIN:VEVENT
UID:sabre-vobject-6a14cc39-2c42-4823-a647-99a6f12dff47
DTSTAMP:20260424T225032Z
SUMMARY:Bittgang von Dösingen nach Westendorf mit Hl. Messe in St. Michael
DESCRIPTION:https://www2.bistum-augsburg.de/gottesdienste/bittgang-von-does
 ingen-nach-westendorf-mit-hl-messe-in-st-michael_id1732883
DTSTART;TZID=Europe/Berlin:20260512T184500
DURATION:PT30M
LOCATION:St. Peter und Paul
END:VEVENT
END:VCALENDAR
