BEGIN:VCALENDAR
VERSION:2.0
PRODID:-//Sabre//Sabre VObject 4.5.8//EN
CALSCALE:GREGORIAN
BEGIN:VEVENT
UID:sabre-vobject-0a5f673f-8663-496d-a348-8ec512eaabb1
DTSTAMP:20260424T163011Z
SUMMARY:Rosenkranz in St. Wendelin
DESCRIPTION:https://www2.bistum-augsburg.de/gottesdienste/rosenkranz-in-st-
 wendelin_id1732890
DTSTART;TZID=Europe/Berlin:20260510T101500
DURATION:PT30M
LOCATION:St. Michael
END:VEVENT
END:VCALENDAR
