BEGIN:VCALENDAR
VERSION:2.0
PRODID:-//Sabre//Sabre VObject 4.5.8//EN
CALSCALE:GREGORIAN
BEGIN:VEVENT
UID:sabre-vobject-a24bf0b6-cfd7-4199-af32-226b4c2bb95f
DTSTAMP:20260425T012108Z
SUMMARY:Fatima-Rosenkranz in St. Michael
DESCRIPTION:https://www2.bistum-augsburg.de/gottesdienste/fatima-rosenkranz
 -in-st-michael_id1732912
DTSTART;TZID=Europe/Berlin:20260512T083000
DURATION:PT30M
LOCATION:St. Michael
END:VEVENT
END:VCALENDAR
