BEGIN:VCALENDAR
VERSION:2.0
PRODID:-//Sabre//Sabre VObject 4.5.8//EN
CALSCALE:GREGORIAN
BEGIN:VEVENT
UID:sabre-vobject-fcc88e57-81d1-4c4d-8e3f-a18cfeb593f1
DTSTAMP:20260424T185503Z
SUMMARY:Bittgang von Obergermaringen nach Untergermaringen mit Hl. Messe in
  St. Johann
DESCRIPTION:https://www2.bistum-augsburg.de/gottesdienste/bittgang-von-ober
 germaringen-nach-untergermaringen-mit-hl-messe-in-st-johann_id1732913
DTSTART;TZID=Europe/Berlin:20260512T184500
DURATION:PT30M
LOCATION:St. Michael
END:VEVENT
END:VCALENDAR
