BEGIN:VCALENDAR
VERSION:2.0
PRODID:-//Sabre//Sabre VObject 4.5.8//EN
CALSCALE:GREGORIAN
BEGIN:VEVENT
UID:sabre-vobject-02667bf3-f8c9-4367-876c-397488661d27
DTSTAMP:20260424T113651Z
SUMMARY:Abfahrt der Wallfahrer nach Andechs am Gemeindeamt Germaringen\nZus
 teigemöglichkeit: 06.40 Uhr an der Sparkasse in Westendorf\, 06.45 Uhr an
  der Bushaltestelle in Oberostendorf
DESCRIPTION:https://www2.bistum-augsburg.de/gottesdienste/abfahrt-der-wallf
 ahrer-nach-andechs-am-gemeindeamt-germaringen-zusteigemoeglichkeit-06-40-u
 hr-an-der-sparkasse-in-westendorf-06-45-uhr-an-der-bushaltestelle-in-obero
 stendorf_id1732915
DTSTART;TZID=Europe/Berlin:20260514T063000
DURATION:PT30M
LOCATION:St. Michael
END:VEVENT
END:VCALENDAR
