BEGIN:VCALENDAR
VERSION:2.0
PRODID:-//Sabre//Sabre VObject 4.5.8//EN
CALSCALE:GREGORIAN
BEGIN:VEVENT
UID:sabre-vobject-19f73e33-9ba2-4ae8-83eb-6a81332e19f5
DTSTAMP:20260424T090409Z
SUMMARY:Heilige Messe in St. Michael mit Miniaufnahme und -verabschiedung
DESCRIPTION:https://www2.bistum-augsburg.de/gottesdienste/heilige-messe-in-
 st-michael-mit-miniaufnahme-und-verabschiedung_id1732919
DTSTART;TZID=Europe/Berlin:20260516T191500
DURATION:PT30M
LOCATION:St. Michael
END:VEVENT
END:VCALENDAR
