BEGIN:VCALENDAR
VERSION:2.0
PRODID:-//Sabre//Sabre VObject 4.5.8//EN
CALSCALE:GREGORIAN
BEGIN:VEVENT
UID:sabre-vobject-5a937ecf-c446-4071-91a8-fd7dd2cbd873
DTSTAMP:20260424T091723Z
SUMMARY:Maiandacht
DESCRIPTION:https://www2.bistum-augsburg.de/gottesdienste/maiandacht_id1732
 932
DTSTART;TZID=Europe/Berlin:20260505T183000
DURATION:PT30M
LOCATION:St. Stephan\, Nattenhauser Straße 6\, 86489 Deisenhausen
END:VEVENT
END:VCALENDAR
