BEGIN:VCALENDAR
VERSION:2.0
PRODID:-//Sabre//Sabre VObject 4.5.8//EN
CALSCALE:GREGORIAN
BEGIN:VEVENT
UID:sabre-vobject-b5056985-6465-4819-99df-0e14ee9ac258
DTSTAMP:20260425T035101Z
SUMMARY:Hl. Messe in polnisch
DESCRIPTION:https://www2.bistum-augsburg.de/gottesdienste/hl-messe-in-polni
 sch_id1732965
DTSTART;TZID=Europe/Berlin:20260516T170000
DURATION:PT30M
LOCATION:St. Alban
END:VEVENT
END:VCALENDAR
