BEGIN:VCALENDAR
VERSION:2.0
PRODID:-//Sabre//Sabre VObject 4.5.8//EN
CALSCALE:GREGORIAN
BEGIN:VEVENT
UID:sabre-vobject-48233ba2-84ce-4a06-b294-9c36362e7a04
DTSTAMP:20260425T220705Z
SUMMARY:Maiandacht mit Aussetzung
DESCRIPTION:https://www2.bistum-augsburg.de/gottesdienste/maiandacht-mit-au
 ssetzung_id1732977
DTSTART;TZID=Europe/Berlin:20260517T190000
DURATION:PT30M
LOCATION:St. Alban
END:VEVENT
END:VCALENDAR
