BEGIN:VCALENDAR
VERSION:2.0
PRODID:-//Sabre//Sabre VObject 4.5.8//EN
CALSCALE:GREGORIAN
BEGIN:VEVENT
UID:sabre-vobject-8a8e0e28-1192-44f8-bb54-d38be6cf308c
DTSTAMP:20260425T192233Z
SUMMARY:Rosenkranz
DESCRIPTION:https://www2.bistum-augsburg.de/gottesdienste/rosenkranz_id1732
 996
DTSTART;TZID=Europe/Berlin:20260524T190000
DURATION:PT30M
LOCATION:St. Andreas
END:VEVENT
END:VCALENDAR
