BEGIN:VCALENDAR
VERSION:2.0
PRODID:-//Sabre//Sabre VObject 4.5.8//EN
CALSCALE:GREGORIAN
BEGIN:VEVENT
UID:sabre-vobject-4f29b91e-e1ce-4dd1-8988-27e274b94d98
DTSTAMP:20260423T110630Z
SUMMARY:Maiandacht für Kinder\, jedes Kind darf eine Blume mitbringen
DESCRIPTION:https://www2.bistum-augsburg.de/gottesdienste/maiandacht-fuer-k
 inder-jedes-kind-darf-eine-blume-mitbringen_id1733002
DTSTART;TZID=Europe/Berlin:20260507T170000
DURATION:PT30M
LOCATION:St. Walburga
END:VEVENT
END:VCALENDAR
