BEGIN:VCALENDAR
VERSION:2.0
PRODID:-//Sabre//Sabre VObject 4.5.8//EN
CALSCALE:GREGORIAN
BEGIN:VEVENT
UID:sabre-vobject-c74c4eae-cc50-4db7-97cd-8f8fd63abf6d
DTSTAMP:20260423T175242Z
SUMMARY:Maiandacht an der Lederlekapelle\, bei ungünstiger Witterung in de
 r Pfarrkirche
DESCRIPTION:https://www2.bistum-augsburg.de/gottesdienste/maiandacht-an-der
 -lederlekapelle-bei-unguenstiger-witterung-in-der-pfarrkirche_id1733034
DTSTART;TZID=Europe/Berlin:20260510T190000
DURATION:PT30M
LOCATION:St. Stephan
END:VEVENT
END:VCALENDAR
