BEGIN:VCALENDAR
VERSION:2.0
PRODID:-//Sabre//Sabre VObject 4.5.8//EN
CALSCALE:GREGORIAN
BEGIN:VEVENT
UID:sabre-vobject-ed21d347-5151-438b-ae00-28a442dc87d6
DTSTAMP:20260425T220706Z
SUMMARY:Maiandacht mit eucharistischem Segen
DESCRIPTION:https://www2.bistum-augsburg.de/gottesdienste/maiandacht-mit-eu
 charistischem-segen_id1733035
DTSTART;TZID=Europe/Berlin:20260510T191500
DURATION:PT30M
LOCATION:St. Michael\, An d. Halde 21\, 87679 Westendorf
END:VEVENT
END:VCALENDAR
