BEGIN:VCALENDAR
VERSION:2.0
PRODID:-//Sabre//Sabre VObject 4.5.8//EN
CALSCALE:GREGORIAN
BEGIN:VEVENT
UID:sabre-vobject-07187b7c-d4e6-40fb-b8d8-fc15a7441c04
DTSTAMP:20260425T150856Z
SUMMARY:Magnuskirche: Bittmesse
DESCRIPTION:https://www2.bistum-augsburg.de/gottesdienste/magnuskirche-bitt
 messe_id1733074
DTSTART;TZID=Europe/Berlin:20260511T100000
DURATION:PT30M
LOCATION:St. Johannes Baptist
END:VEVENT
END:VCALENDAR
