BEGIN:VCALENDAR
VERSION:2.0
PRODID:-//Sabre//Sabre VObject 4.5.8//EN
CALSCALE:GREGORIAN
BEGIN:VEVENT
UID:sabre-vobject-9e3ad488-1868-4e14-a89e-1c5996c15dce
DTSTAMP:20260424T190957Z
SUMMARY:Seniorennachmittag im Heinrich-Sinz-Haus \nmit Kaffee und Kuchen. \
 nSollten Sie eine Fahrgelegenheit benötigen \nmelden Sie sich bitte im Pf
 arrbüro 08223/961820. \nSagen Sie auch Ihren älteren N
DESCRIPTION:https://www2.bistum-augsburg.de/gottesdienste/seniorennachmitta
 g-im-heinrich-sinz-haus-mit-kaffee-und-kuchen-sollten-sie-eine-fahrgelegen
 heit-benoetigen-melden-sie-sich-bitte-im-pfarrbuero-08223-961820-sagen-sie
 -auch-ihren-aelteren-n_id1733111
DTSTART;TZID=Europe/Berlin:20260504T140000
DURATION:PT30M
LOCATION:St. Johannes Baptist\, Heinrich-Sinz-Straße 6\, 89335 Ichenhausen
END:VEVENT
END:VCALENDAR
