BEGIN:VCALENDAR
VERSION:2.0
PRODID:-//Sabre//Sabre VObject 4.5.8//EN
CALSCALE:GREGORIAN
BEGIN:VEVENT
UID:sabre-vobject-a668ab25-f624-4ad6-85a9-45016758aa64
DTSTAMP:20260425T000017Z
SUMMARY:Heilige Messe zum Patrozinium mit Ehrung von Frau Hackenberg\, Koll
 ekte für den Maialtar\, anschließend Stehempfang
DESCRIPTION:https://www2.bistum-augsburg.de/gottesdienste/heilige-messe-zum
 -patrozinium-mit-ehrung-von-frau-hackenberg-kollekte-fuer-den-maialtar-ans
 chliessend-stehempfang_id1733118
DTSTART;TZID=Europe/Berlin:20260426T100000
DURATION:PT30M
LOCATION:St. Georg\, Georgenstraße 29\, 86687 Kaisheim
END:VEVENT
END:VCALENDAR
