BEGIN:VCALENDAR
VERSION:2.0
PRODID:-//Sabre//Sabre VObject 4.5.8//EN
CALSCALE:GREGORIAN
BEGIN:VEVENT
UID:sabre-vobject-f41a239b-03a3-46ad-a49b-2a1ba6b9aae1
DTSTAMP:20260425T021019Z
SUMMARY:Hl. Messe mit Fronleichnamsprozession
DESCRIPTION:https://www2.bistum-augsburg.de/gottesdienste/hl-messe-mit-fron
 leichnamsprozession_id1733155
DTSTART;TZID=Europe/Berlin:20260604T093000
DURATION:PT30M
LOCATION:St. Michael
END:VEVENT
END:VCALENDAR
