BEGIN:VCALENDAR
VERSION:2.0
PRODID:-//Sabre//Sabre VObject 4.5.8//EN
CALSCALE:GREGORIAN
BEGIN:VEVENT
UID:sabre-vobject-8929b8bd-06f7-48b1-9b04-f8409b1fa1b2
DTSTAMP:20260424T030203Z
SUMMARY:Rosenkranz
DESCRIPTION:https://www2.bistum-augsburg.de/gottesdienste/rosenkranz_id1733
 168
DTSTART;TZID=Europe/Berlin:20260518T170000
DURATION:PT30M
LOCATION:Zum Hlgst. Erlöser\, Wellenburger Str. 58\, 86199 Augsburg-Göggi
 ngen
END:VEVENT
END:VCALENDAR
