BEGIN:VCALENDAR
VERSION:2.0
PRODID:-//Sabre//Sabre VObject 4.5.8//EN
CALSCALE:GREGORIAN
BEGIN:VEVENT
UID:sabre-vobject-32173647-f909-42db-a9a2-ab74bed9d6b3
DTSTAMP:20260424T174417Z
SUMMARY:Pfarrgottesdienst
DESCRIPTION:https://www2.bistum-augsburg.de/gottesdienste/pfarrgottesdienst
 _id1733180
DTSTART;TZID=Europe/Berlin:20260517T101500
DURATION:PT30M
LOCATION:St. Michael
END:VEVENT
END:VCALENDAR
