BEGIN:VCALENDAR
VERSION:2.0
PRODID:-//Sabre//Sabre VObject 4.5.8//EN
CALSCALE:GREGORIAN
BEGIN:VEVENT
UID:sabre-vobject-53c83674-2999-4189-b6d4-57bffdbe5422
DTSTAMP:20260426T031543Z
SUMMARY:Maiandacht in St. Heinrich
DESCRIPTION:https://www2.bistum-augsburg.de/gottesdienste/maiandacht-in-st-
 heinrich_id1733181
DTSTART;TZID=Europe/Berlin:20260517T183000
DURATION:PT30M
LOCATION:St. Michael
END:VEVENT
END:VCALENDAR
