BEGIN:VCALENDAR
VERSION:2.0
PRODID:-//Sabre//Sabre VObject 4.5.8//EN
CALSCALE:GREGORIAN
BEGIN:VEVENT
UID:sabre-vobject-24ff579b-77e1-42d6-b7cc-f783d7b6ec97
DTSTAMP:20260425T035046Z
SUMMARY:Dankandacht
DESCRIPTION:https://www2.bistum-augsburg.de/gottesdienste/dankandacht_id173
 3309
DTSTART;TZID=Europe/Berlin:20260503T143000
DURATION:PT30M
LOCATION:Mariä Himmelfahrt\, Hauptstraße 43\, 87784 Westerheim
END:VEVENT
END:VCALENDAR
