BEGIN:VCALENDAR
VERSION:2.0
PRODID:-//Sabre//Sabre VObject 4.5.8//EN
CALSCALE:GREGORIAN
BEGIN:VEVENT
UID:sabre-vobject-216e919d-f920-4cde-9ed6-cf832e808b68
DTSTAMP:20260424T211310Z
SUMMARY:Hl. Messopfer
DESCRIPTION:https://www2.bistum-augsburg.de/gottesdienste/hl-messopfer_id17
 33334
DTSTART;TZID=Europe/Berlin:20260427T073000
DURATION:PT30M
LOCATION:Wallfahrtsdirektion Mariä Schmerzen
END:VEVENT
END:VCALENDAR
