BEGIN:VCALENDAR
VERSION:2.0
PRODID:-//Sabre//Sabre VObject 4.5.8//EN
CALSCALE:GREGORIAN
BEGIN:VEVENT
UID:sabre-vobject-3c86c292-338c-4c31-af13-53240c117a96
DTSTAMP:20260425T020944Z
SUMMARY:Bittgang m. Vorabendmesse\, anschl. gemütl. Beisammensein im Pfarr
 heim
DESCRIPTION:https://www2.bistum-augsburg.de/gottesdienste/bittgang-m-vorabe
 ndmesse-anschl-gemuetl-beisammensein-im-pfarrheim_id1733336
DTSTART;TZID=Europe/Berlin:20260513T180000
DURATION:PT30M
LOCATION:St. Peter und Paul
END:VEVENT
END:VCALENDAR
