BEGIN:VCALENDAR
VERSION:2.0
PRODID:-//Sabre//Sabre VObject 4.5.8//EN
CALSCALE:GREGORIAN
BEGIN:VEVENT
UID:sabre-vobject-e06321f7-2ca0-4454-b9a1-99ee95057872
DTSTAMP:20260424T161523Z
SUMMARY:Eucharistiefeier - Familiengottesdienst zum Muttertag im Schulgarte
 n Gessertshausen\, anschl. Rosenverkauf bei schlechtem Wetter in der Pfarr
 kirche
DESCRIPTION:https://www2.bistum-augsburg.de/gottesdienste/eucharistiefeier-
 familiengottesdienst-zum-muttertag-im-schulgarten-gessertshausen-anschl-ro
 senverkauf-bei-schlechtem-wetter-in-der-pfarrkirche_id1733358
DTSTART;TZID=Europe/Berlin:20260510T100000
DURATION:PT30M
LOCATION:St. Johannes Baptist
END:VEVENT
END:VCALENDAR
