BEGIN:VCALENDAR
VERSION:2.0
PRODID:-//Sabre//Sabre VObject 4.5.8//EN
CALSCALE:GREGORIAN
BEGIN:VEVENT
UID:sabre-vobject-a3f70b8a-6fa2-4c24-959c-1ce2776f1a69
DTSTAMP:20260424T171921Z
SUMMARY:Festgottesdienst am Vorabend
DESCRIPTION:https://www2.bistum-augsburg.de/gottesdienste/festgottesdienst-
 am-vorabend_id1733360
DTSTART;TZID=Europe/Berlin:20260513T183000
DURATION:PT30M
LOCATION:St. Johannes Baptist
END:VEVENT
END:VCALENDAR
