BEGIN:VCALENDAR
VERSION:2.0
PRODID:-//Sabre//Sabre VObject 4.5.8//EN
CALSCALE:GREGORIAN
BEGIN:VEVENT
UID:sabre-vobject-e27b434a-cf27-4552-9371-d24a1769e1a4
DTSTAMP:20260424T121420Z
SUMMARY:Bittprozession nach Unternefsried
DESCRIPTION:https://www2.bistum-augsburg.de/gottesdienste/bittprozession-na
 ch-unternefsried_id1733386
DTSTART;TZID=Europe/Berlin:20260510T183000
DURATION:PT30M
LOCATION:St. Laurentius\, Obernefsried 3\, 86500 Agawang
END:VEVENT
END:VCALENDAR
