BEGIN:VCALENDAR
VERSION:2.0
PRODID:-//Sabre//Sabre VObject 4.5.8//EN
CALSCALE:GREGORIAN
BEGIN:VEVENT
UID:sabre-vobject-396f130f-b260-488c-9495-b854fba778a7
DTSTAMP:20260425T210021Z
SUMMARY:Eucharistiefeier bei Rommelsried am Feldkreuz
DESCRIPTION:https://www2.bistum-augsburg.de/gottesdienste/eucharistiefeier-
 bei-rommelsried-am-feldkreuz_id1733397
DTSTART;TZID=Europe/Berlin:20260512T190000
DURATION:PT30M
LOCATION:St. Ursula und Gefährtinnen
END:VEVENT
END:VCALENDAR
