BEGIN:VCALENDAR
VERSION:2.0
PRODID:-//Sabre//Sabre VObject 4.5.8//EN
CALSCALE:GREGORIAN
BEGIN:VEVENT
UID:sabre-vobject-3ae3f02c-31fe-4aca-ae04-b2043e378702
DTSTAMP:20260424T110241Z
SUMMARY:Rosenkranz/Andacht
DESCRIPTION:https://www2.bistum-augsburg.de/gottesdienste/rosenkranz-andach
 t_id1733406
DTSTART;TZID=Europe/Berlin:20260507T083000
DURATION:PT30M
LOCATION:Kuratie St. Georg
END:VEVENT
END:VCALENDAR
