BEGIN:VCALENDAR
VERSION:2.0
PRODID:-//Sabre//Sabre VObject 4.5.8//EN
CALSCALE:GREGORIAN
BEGIN:VEVENT
UID:sabre-vobject-2742e0ed-09ec-4125-908f-1c2f4d322693
DTSTAMP:20260425T172428Z
SUMMARY:Hl. Messopfer
DESCRIPTION:https://www2.bistum-augsburg.de/gottesdienste/hl-messopfer_id17
 33449
DTSTART;TZID=Europe/Berlin:20260503T073000
DURATION:PT30M
LOCATION:Wallfahrtsdirektion Mariä Schmerzen
END:VEVENT
END:VCALENDAR
