BEGIN:VCALENDAR
VERSION:2.0
PRODID:-//Sabre//Sabre VObject 4.5.8//EN
CALSCALE:GREGORIAN
BEGIN:VEVENT
UID:sabre-vobject-6229fc0c-6a33-4ba6-b100-1fdd6fe7ffa5
DTSTAMP:20260424T140056Z
SUMMARY:Pilgeramt für die lebenden u. verstorbenen Wohltäter der Wallfahr
 t
DESCRIPTION:https://www2.bistum-augsburg.de/gottesdienste/pilgeramt-fuer-di
 e-lebenden-u-verstorbenen-wohltaeter-der-wallfahrt_id1733471
DTSTART;TZID=Europe/Berlin:20260501T101500
DURATION:PT30M
LOCATION:Wallfahrtsdirektion Mariä Schmerzen
END:VEVENT
END:VCALENDAR
