BEGIN:VCALENDAR
VERSION:2.0
PRODID:-//Sabre//Sabre VObject 4.5.8//EN
CALSCALE:GREGORIAN
BEGIN:VEVENT
UID:sabre-vobject-6c3497a4-9a58-420a-842c-6eb7fccb0267
DTSTAMP:20260426T005858Z
SUMMARY:Friedensrosenkranz
DESCRIPTION:https://www2.bistum-augsburg.de/gottesdienste/friedensrosenkran
 z_id1733496
DTSTART;TZID=Europe/Berlin:20260522T184000
DURATION:PT30M
LOCATION:Wallfahrtsdirektion Mariä Schmerzen
END:VEVENT
END:VCALENDAR
