BEGIN:VCALENDAR
VERSION:2.0
PRODID:-//Sabre//Sabre VObject 4.5.8//EN
CALSCALE:GREGORIAN
BEGIN:VEVENT
UID:sabre-vobject-fa83eb31-b4e9-4f4b-aa1f-aefb339d0725
DTSTAMP:20260424T085325Z
SUMMARY:Pfarrgd. M
DESCRIPTION:https://www2.bistum-augsburg.de/gottesdienste/pfarrgd-m_id17335
 19
DTSTART;TZID=Europe/Berlin:20260426T100000
DURATION:PT30M
LOCATION:Verklärung Christi
END:VEVENT
END:VCALENDAR
