BEGIN:VCALENDAR
VERSION:2.0
PRODID:-//Sabre//Sabre VObject 4.5.8//EN
CALSCALE:GREGORIAN
BEGIN:VEVENT
UID:sabre-vobject-8fc63a36-950f-4676-aacb-faa70a346a3d
DTSTAMP:20260424T124605Z
SUMMARY:Hl. Messopfer
DESCRIPTION:https://www2.bistum-augsburg.de/gottesdienste/hl-messopfer_id17
 33526
DTSTART;TZID=Europe/Berlin:20260512T191500
DURATION:PT30M
LOCATION:Wallfahrtsdirektion Mariä Schmerzen
END:VEVENT
END:VCALENDAR
