BEGIN:VCALENDAR
VERSION:2.0
PRODID:-//Sabre//Sabre VObject 4.5.8//EN
CALSCALE:GREGORIAN
BEGIN:VEVENT
UID:sabre-vobject-80f4fc3f-eb7f-4ece-bd70-8733dc755b3c
DTSTAMP:20260426T015407Z
SUMMARY:Aussetzung des Allerheiligsten\, Rosenkranz\, sakramentaler Segen
DESCRIPTION:https://www2.bistum-augsburg.de/gottesdienste/aussetzung-des-al
 lerheiligsten-rosenkranz-sakramentaler-segen_id1733548
DTSTART;TZID=Europe/Berlin:20260513T093000
DURATION:PT30M
LOCATION:Wallfahrtsdirektion Mariä Schmerzen
END:VEVENT
END:VCALENDAR
