BEGIN:VCALENDAR
VERSION:2.0
PRODID:-//Sabre//Sabre VObject 4.5.8//EN
CALSCALE:GREGORIAN
BEGIN:VEVENT
UID:sabre-vobject-31482011-9ad1-4cb1-8071-08c157f569b8
DTSTAMP:20260425T164950Z
SUMMARY:In allen hl. Messen feierliche Segnung der Ritamedaillen.
DESCRIPTION:https://www2.bistum-augsburg.de/gottesdienste/in-allen-hl-messe
 n-feierliche-segnung-der-ritamedaillen_id1733550
DTSTART;TZID=Europe/Berlin:20260522T000000
DURATION:PT30M
LOCATION:Wallfahrtsdirektion Mariä Schmerzen
END:VEVENT
END:VCALENDAR
