BEGIN:VCALENDAR
VERSION:2.0
PRODID:-//Sabre//Sabre VObject 4.5.8//EN
CALSCALE:GREGORIAN
BEGIN:VEVENT
UID:sabre-vobject-0a14fe82-2a5e-4b06-9d46-2126610e72ff
DTSTAMP:20260426T031751Z
SUMMARY:Alle Sonn- und Feiertagsmessen werden in die Eltern-Kind-Kapelle ü
 bertragen\nund das Pilgeramt auch auf den Außenbildschirm. \n
DESCRIPTION:https://www2.bistum-augsburg.de/gottesdienste/alle-sonn-und-fei
 ertagsmessen-werden-in-die-eltern-kind-kapelle-uebertragen-und-das-pilgera
 mt-auch-auf-den-aussenbildschirm_id1733578
DTSTART;TZID=Europe/Berlin:20260517T000000
DURATION:PT30M
LOCATION:Wallfahrtsdirektion Mariä Schmerzen
END:VEVENT
END:VCALENDAR
