BEGIN:VCALENDAR
VERSION:2.0
PRODID:-//Sabre//Sabre VObject 4.5.8//EN
CALSCALE:GREGORIAN
BEGIN:VEVENT
UID:sabre-vobject-5af8cf53-41a2-4d7f-aaf2-470e61d84a69
DTSTAMP:20260424T194316Z
SUMMARY:Pfarrgottesdienst m. Öschgang
DESCRIPTION:https://www2.bistum-augsburg.de/gottesdienste/pfarrgottesdienst
 -m-oeschgang_id1733607
DTSTART;TZID=Europe/Berlin:20260514T190000
DURATION:PT30M
LOCATION:St. Bartholomäus
END:VEVENT
END:VCALENDAR
