BEGIN:VCALENDAR
VERSION:2.0
PRODID:-//Sabre//Sabre VObject 4.5.8//EN
CALSCALE:GREGORIAN
BEGIN:VEVENT
UID:sabre-vobject-4590d3b9-cfbe-43c9-9142-20b8fc911f68
DTSTAMP:20260425T034318Z
SUMMARY:Kirchenkaffee im Pfarrhof
DESCRIPTION:https://www2.bistum-augsburg.de/gottesdienste/kirchenkaffee-im-
 pfarrhof_id1733608
DTSTART;TZID=Europe/Berlin:20260517T000000
DURATION:PT30M
LOCATION:St. Bartholomäus
END:VEVENT
END:VCALENDAR
