BEGIN:VCALENDAR
VERSION:2.0
PRODID:-//Sabre//Sabre VObject 4.5.8//EN
CALSCALE:GREGORIAN
BEGIN:VEVENT
UID:sabre-vobject-2200751c-e284-493c-8ea3-8dfc7f46974b
DTSTAMP:20260424T135951Z
SUMMARY:Festmesse zu Pfingsten
DESCRIPTION:https://www2.bistum-augsburg.de/gottesdienste/festmesse-zu-pfin
 gsten_id1733613
DTSTART;TZID=Europe/Berlin:20260524T084500
DURATION:PT30M
LOCATION:Heilig Kreuz\, Hl.-Kreuz-Str. 1\, 86513 Ursberg
END:VEVENT
END:VCALENDAR
