BEGIN:VCALENDAR
VERSION:2.0
PRODID:-//Sabre//Sabre VObject 4.5.8//EN
CALSCALE:GREGORIAN
BEGIN:VEVENT
UID:sabre-vobject-bacd5c1b-1c12-4c96-baac-469b2bcdf85a
DTSTAMP:20260424T151828Z
SUMMARY:Bittandacht im Anschluss Heilige Messe
DESCRIPTION:https://www2.bistum-augsburg.de/gottesdienste/bittandacht-im-an
 schluss-heilige-messe_id1733625
DTSTART;TZID=Europe/Berlin:20260511T190000
DURATION:PT30M
LOCATION:St. Peter und Paul
END:VEVENT
END:VCALENDAR
