BEGIN:VCALENDAR
VERSION:2.0
PRODID:-//Sabre//Sabre VObject 4.5.8//EN
CALSCALE:GREGORIAN
BEGIN:VEVENT
UID:sabre-vobject-2d9556be-e1c6-4e6e-967e-e62c5c583619
DTSTAMP:20260424T172223Z
SUMMARY:Vorabendmesse zu Christi Himmelfahrt
DESCRIPTION:https://www2.bistum-augsburg.de/gottesdienste/vorabendmesse-zu-
 christi-himmelfahrt_id1733626
DTSTART;TZID=Europe/Berlin:20260513T180000
DURATION:PT30M
LOCATION:St. Peter und Paul
END:VEVENT
END:VCALENDAR
