BEGIN:VCALENDAR
VERSION:2.0
PRODID:-//Sabre//Sabre VObject 4.5.8//EN
CALSCALE:GREGORIAN
BEGIN:VEVENT
UID:sabre-vobject-43caae6e-f541-4c7d-afcb-7d616ca8b825
DTSTAMP:20260424T083847Z
SUMMARY:Kindergottesdienst
DESCRIPTION:https://www2.bistum-augsburg.de/gottesdienste/kindergottesdiens
 t_id1733636
DTSTART;TZID=Europe/Berlin:20260517T101500
DURATION:PT30M
LOCATION:St. Bartholomäus
END:VEVENT
END:VCALENDAR
