BEGIN:VCALENDAR
VERSION:2.0
PRODID:-//Sabre//Sabre VObject 4.5.8//EN
CALSCALE:GREGORIAN
BEGIN:VEVENT
UID:sabre-vobject-a1019395-bccb-4693-a3b3-1956b2dcb706
DTSTAMP:20260424T065627Z
SUMMARY:Firmung: Fahrrad-Rally durch die PG - 4 Stationen des Glaubens - nu
 r bei guter Witterung
DESCRIPTION:https://www2.bistum-augsburg.de/gottesdienste/firmung-fahrrad-r
 ally-durch-die-pg-4-stationen-des-glaubens-nur-bei-guter-witterung_id17336
 51
DTSTART;TZID=Europe/Berlin:20260508T150000
DURATION:PT30M
LOCATION:Zum Guten Hirten
END:VEVENT
END:VCALENDAR
