BEGIN:VCALENDAR
VERSION:2.0
PRODID:-//Sabre//Sabre VObject 4.5.8//EN
CALSCALE:GREGORIAN
BEGIN:VEVENT
UID:sabre-vobject-d8fa9650-4a58-4977-b4da-59c5058d5620
DTSTAMP:20260424T225032Z
SUMMARY:Hl. Messe
DESCRIPTION:https://www2.bistum-augsburg.de/gottesdienste/hl-messe_id173365
 7
DTSTART;TZID=Europe/Berlin:20260504T190000
DURATION:PT30M
LOCATION:Heilig Kreuz\, Hl.-Kreuz-Str. 1\, 86513 Ursberg
END:VEVENT
END:VCALENDAR
