BEGIN:VCALENDAR
VERSION:2.0
PRODID:-//Sabre//Sabre VObject 4.5.8//EN
CALSCALE:GREGORIAN
BEGIN:VEVENT
UID:sabre-vobject-50239763-6fab-43c9-bd31-c5b5b7aa2eb2
DTSTAMP:20260425T234015Z
SUMMARY:Bittmesse in Edenhausen (bei schlechtem Wetter in Mindelzell)
DESCRIPTION:https://www2.bistum-augsburg.de/gottesdienste/bittmesse-in-eden
 hausen-bei-schlechtem-wetter-in-mindelzell_id1733675
DTSTART;TZID=Europe/Berlin:20260513T191500
DURATION:PT30M
LOCATION:Heilig Kreuz\, Hl.-Kreuz-Str. 1\, 86513 Ursberg
END:VEVENT
END:VCALENDAR
