BEGIN:VCALENDAR
VERSION:2.0
PRODID:-//Sabre//Sabre VObject 4.5.8//EN
CALSCALE:GREGORIAN
BEGIN:VEVENT
UID:sabre-vobject-a7c51624-4694-4b63-87e7-879eb462938d
DTSTAMP:20260425T021017Z
SUMMARY:Seniorenausflug zur Mostbäuerin
DESCRIPTION:https://www2.bistum-augsburg.de/gottesdienste/seniorenausflug-z
 ur-mostbaeuerin_id1733683
DTSTART;TZID=Europe/Berlin:20260513T140000
DURATION:PT30M
LOCATION:St. Peter und Paul
END:VEVENT
END:VCALENDAR
